BEGIN:VCALENDAR
VERSION:2.0
PRODID:-//nzce - ECPv6.15.15//NONSGML v1.0//EN
CALSCALE:GREGORIAN
METHOD:PUBLISH
X-ORIGINAL-URL:https://christianevents.nz
X-WR-CALDESC:Events for nzce
REFRESH-INTERVAL;VALUE=DURATION:PT1H
X-Robots-Tag:noindex
X-PUBLISHED-TTL:PT1H
BEGIN:VTIMEZONE
TZID:Pacific/Auckland
BEGIN:STANDARD
TZOFFSETFROM:+1300
TZOFFSETTO:+1200
TZNAME:NZST
DTSTART:20250405T140000
END:STANDARD
BEGIN:DAYLIGHT
TZOFFSETFROM:+1200
TZOFFSETTO:+1300
TZNAME:NZDT
DTSTART:20250927T140000
END:DAYLIGHT
BEGIN:STANDARD
TZOFFSETFROM:+1300
TZOFFSETTO:+1200
TZNAME:NZST
DTSTART:20260404T140000
END:STANDARD
BEGIN:DAYLIGHT
TZOFFSETFROM:+1200
TZOFFSETTO:+1300
TZNAME:NZDT
DTSTART:20260926T140000
END:DAYLIGHT
BEGIN:STANDARD
TZOFFSETFROM:+1300
TZOFFSETTO:+1200
TZNAME:NZST
DTSTART:20270403T140000
END:STANDARD
BEGIN:DAYLIGHT
TZOFFSETFROM:+1200
TZOFFSETTO:+1300
TZNAME:NZDT
DTSTART:20270925T140000
END:DAYLIGHT
END:VTIMEZONE
BEGIN:VEVENT
DTSTART;TZID=Pacific/Auckland:20260422T093000
DTEND;TZID=Pacific/Auckland:20260422T123000
DTSTAMP:20260426T034323
CREATED:20260311T095503Z
LAST-MODIFIED:20260311T095703Z
UID:3713-1776850200-1776861000@christianevents.nz
SUMMARY:Culture of Prayer training - Wellington
DESCRIPTION:Building Cultures of Prayer in Your Church\nAre you passionate about seeing prayer flourish in your church community? Join us for a morning of inspiration\, practical tools\, and meaningful connection with local pastors\, church teams\, and leaders. Discover fresh ways to lead your people into prayer and equip your church to embrace a vibrant and transformational culture of prayer in 2026. \nWednesday 22nd April 2026\n9:30am to 12:30pm \nGateway Baptist Church\n33 Park Road\nMiramar\, Wellington \nTickets: $20.00 \nRegister here:\nhttps://www.eventbrite.co.nz/e/culture-of-prayer-training-wellington-tickets-1983500774210?aff=oddtdtcreator
URL:https://christianevents.nz/event/culture-of-prayer-training-wellington/
LOCATION:Gateway Baptist Church\, 33 Park Road\, Mirimar\, Wellington\, Wellington\, 6022\, New Zealand
CATEGORIES:Wellington
ATTACH;FMTTYPE=image/webp:https://christianevents.nz/wp-content/uploads/2026/03/image-5.webp
END:VEVENT
BEGIN:VEVENT
DTSTART;TZID=Pacific/Auckland:20260326T072000
DTEND;TZID=Pacific/Auckland:20260326T072000
DTSTAMP:20260426T034323
CREATED:20260310T091659Z
LAST-MODIFIED:20260310T091719Z
UID:3704-1774509600-1774509600@christianevents.nz
SUMMARY:Prayer at Parliament
DESCRIPTION:The first (non denominational) Prayer@Parliament meeting for 2026 is on Thursday 26th March. Dr Stuart Lange\, National Director NZ Christan Network\, will be leading a Prayer Track to do with the type of people we need in parliament as we prepare for a general election later this year. \nCome and pray with 100’s of other believers for our leaders and nation. Register for meetings (essential) and get all the latest news by registering here: \nhttps://prayeratparliament.org.nz/register
URL:https://christianevents.nz/event/prayer-at-parliament/
LOCATION:Parliament Buildings\, 1 Molesworth Street\, Pipitea\, Wellington 6011\, Wellington\, Wellington\, 6011\, New Zealand
CATEGORIES:Wellington
ATTACH;FMTTYPE=image/jpeg:https://christianevents.nz/wp-content/uploads/2026/03/PrayerAtParliamentAdvert-8dc6f8f9ed5076aea7d4d43e129772fe.jpg
END:VEVENT
END:VCALENDAR