BEGIN:VCALENDAR
VERSION:2.0
PRODID:-//nzce - ECPv6.15.15//NONSGML v1.0//EN
CALSCALE:GREGORIAN
METHOD:PUBLISH
X-ORIGINAL-URL:https://christianevents.nz
X-WR-CALDESC:Events for nzce
REFRESH-INTERVAL;VALUE=DURATION:PT1H
X-Robots-Tag:noindex
X-PUBLISHED-TTL:PT1H
BEGIN:VTIMEZONE
TZID:Pacific/Auckland
BEGIN:STANDARD
TZOFFSETFROM:+1300
TZOFFSETTO:+1200
TZNAME:NZST
DTSTART:20250405T140000
END:STANDARD
BEGIN:DAYLIGHT
TZOFFSETFROM:+1200
TZOFFSETTO:+1300
TZNAME:NZDT
DTSTART:20250927T140000
END:DAYLIGHT
BEGIN:STANDARD
TZOFFSETFROM:+1300
TZOFFSETTO:+1200
TZNAME:NZST
DTSTART:20260404T140000
END:STANDARD
BEGIN:DAYLIGHT
TZOFFSETFROM:+1200
TZOFFSETTO:+1300
TZNAME:NZDT
DTSTART:20260926T140000
END:DAYLIGHT
BEGIN:STANDARD
TZOFFSETFROM:+1300
TZOFFSETTO:+1200
TZNAME:NZST
DTSTART:20270403T140000
END:STANDARD
BEGIN:DAYLIGHT
TZOFFSETFROM:+1200
TZOFFSETTO:+1300
TZNAME:NZDT
DTSTART:20270925T140000
END:DAYLIGHT
END:VTIMEZONE
BEGIN:VEVENT
DTSTART;TZID=Pacific/Auckland:20260630T060000
DTEND;TZID=Pacific/Auckland:20260630T203000
DTSTAMP:20260426T073522
CREATED:20260312T003252Z
LAST-MODIFIED:20260312T003300Z
UID:3720-1782799200-1782851400@christianevents.nz
SUMMARY:Wellington Prayer Breakfast 2026
DESCRIPTION:Gathering to pray for our city\nJoin us as we gather to pray for the Greater Wellington area\nTuesday 30 June 2026 | Hnry Stadium \n6:00am – 8:30am\nDoors open at 06:10\, stay until 09:00 to mix and mingle
URL:https://christianevents.nz/event/wellington-prayer-breakfast-2026/
LOCATION:Hnry Stadium\, 105 Waterloo Quay\, Pipitea\, Wellington\, Wellington\, 6011\, New Zealand
CATEGORIES:Wellington
ATTACH;FMTTYPE=image/png:https://christianevents.nz/wp-content/uploads/2026/03/650385058_122159895164912227_4797640793055806016_n.png
END:VEVENT
END:VCALENDAR