BEGIN:VCALENDAR
VERSION:2.0
PRODID:-//nzce - ECPv6.15.15//NONSGML v1.0//EN
CALSCALE:GREGORIAN
METHOD:PUBLISH
X-WR-CALNAME:nzce
X-ORIGINAL-URL:https://christianevents.nz
X-WR-CALDESC:Events for nzce
REFRESH-INTERVAL;VALUE=DURATION:PT1H
X-Robots-Tag:noindex
X-PUBLISHED-TTL:PT1H
BEGIN:VTIMEZONE
TZID:Pacific/Auckland
BEGIN:STANDARD
TZOFFSETFROM:+1300
TZOFFSETTO:+1200
TZNAME:NZST
DTSTART:20250405T140000
END:STANDARD
BEGIN:DAYLIGHT
TZOFFSETFROM:+1200
TZOFFSETTO:+1300
TZNAME:NZDT
DTSTART:20250927T140000
END:DAYLIGHT
BEGIN:STANDARD
TZOFFSETFROM:+1300
TZOFFSETTO:+1200
TZNAME:NZST
DTSTART:20260404T140000
END:STANDARD
BEGIN:DAYLIGHT
TZOFFSETFROM:+1200
TZOFFSETTO:+1300
TZNAME:NZDT
DTSTART:20260926T140000
END:DAYLIGHT
BEGIN:STANDARD
TZOFFSETFROM:+1300
TZOFFSETTO:+1200
TZNAME:NZST
DTSTART:20270403T140000
END:STANDARD
BEGIN:DAYLIGHT
TZOFFSETFROM:+1200
TZOFFSETTO:+1300
TZNAME:NZDT
DTSTART:20270925T140000
END:DAYLIGHT
END:VTIMEZONE
BEGIN:VEVENT
DTSTART;TZID=Pacific/Auckland:20260501T193000
DTEND;TZID=Pacific/Auckland:20260501T220000
DTSTAMP:20260426T045305
CREATED:20260407T061640Z
LAST-MODIFIED:20260407T061640Z
UID:4046-1777663800-1777672800@christianevents.nz
SUMMARY:Wellington Revival Night | May 2026
DESCRIPTION:Hope. Healing. Miracles. \nWellington\, the Holy Spirit is moving across our nation\, and we are expectant for a powerful encounter in the capital. Join Evangelists Joseph & Lesley Lee for a night dedicated to the raw power of Jesus. Whether you need a physical miracle\, emotional restoration\, or a fresh touch from God\, come expectant. \nDate: Friday 1st May \nTime: 7:30pm \nVenue: Johnsonville Community Centre\, 3 Frankmoore Ave \nEntry: Free Entry – All are welcome.
URL:https://christianevents.nz/event/wellington-revival-night-may-2026/
LOCATION:Johnsonville Community Centre\, 3 Frankmoore Avenue\, Johnsonville\, Wellington\, Wellington\, 6037\, New Zealand
CATEGORIES:Wellington
ATTACH;FMTTYPE=image/webp:https://christianevents.nz/wp-content/uploads/2026/04/WhatsAppImage2026-04-01at12.47.47PM.webp
ORGANIZER;CN="Pioneer Ministry":MAILTO:info@pioneerministry.com
END:VEVENT
BEGIN:VEVENT
DTSTART;VALUE=DATE:20260502
DTEND;VALUE=DATE:20260506
DTSTAMP:20260426T045305
CREATED:20260129T045945Z
LAST-MODIFIED:20260313T051341Z
UID:3524-1777680000-1778025599@christianevents.nz
SUMMARY:Raging Fire 2026
DESCRIPTION:2 Corinthians 3:18 NIV ‘And we all\, who with unveiled faces contemplate the Lord’s glory\, are being transformed into his image with ever-increasing glory\, which comes from the Lord\, who is the Spirit.’ \nAs we behold the Lord’s glory\, we are being transformed into His image with Ever-Increasing Glory even as by the Spirit of the Lord. \nThis year’s theme\, Ever Increasing Glory\, calls us to go deeper into the radiant life of the Spirit\, reflecting the power and beauty of Jesus in a world that desperately needs His light. \nFrom the front door to the altar\, in worship and in fellowship\, every moment is an invitation to be immersed in His outpouring. The same Spirit that birthed the Church is still igniting hearts today. \nThis year\, we gather again for a weekend of raw\, authentic encounter with the tangible presence and power of God. \nCome hungry for all God has prepared for you to become part of what God is doing in this generation. \nRegister at:\nhttps://hopecentre.infoodle.com/form_process?g=946e5f8f-0d9c-4206-9671-ad01d5556c6c
URL:https://christianevents.nz/event/raging-fire-2026/
LOCATION:Hope Centre Church\, 8 Downer Street\, Lower Hutt\, Wellington\, Wellington\, 5010\, New Zealand
CATEGORIES:Wellington
ATTACH;FMTTYPE=image/jpeg:https://christianevents.nz/wp-content/uploads/2026/01/595788884_845529538227661_1785544816027005816_n.jpg
END:VEVENT
BEGIN:VEVENT
DTSTART;TZID=Pacific/Auckland:20260519T190000
DTEND;TZID=Pacific/Auckland:20260519T210000
DTSTAMP:20260426T045305
CREATED:20260317T002420Z
LAST-MODIFIED:20260317T002420Z
UID:3765-1779217200-1779224400@christianevents.nz
SUMMARY:Atheist Encounter – Wellington
DESCRIPTION:Join Jonathan Noyes\, speaker with Stand to Reason\, as he shares his powerful journey from atheism to Christianity. Once convinced that belief in God was irrational\, Jonathan set out to examine the evidence—and what he discovered changed everything. \nIn this compelling and practical event\, you’ll hear his story and be equipped with clear\, thoughtful strategies for responding to tough questions and hostile objections to the Christian faith. Whether you’re exploring faith yourself or want to engage others with confidence and grace\, this tour will challenge and encourage you. \nThis event is **FREE** to attend but an offering to support the tour will be taken on the night.
URL:https://christianevents.nz/event/atheist-encounter-wellington/
LOCATION:The Gathering Church\, 147 Thorndon Quay\, Pipitea\, Wellington\, Wellington\, 6011\, New Zealand
CATEGORIES:Wellington
ATTACH;FMTTYPE=image/jpeg:https://christianevents.nz/wp-content/uploads/2026/03/649296795_1347954597360073_1502487775405373980_n-1.jpg
END:VEVENT
END:VCALENDAR