BEGIN:VCALENDAR
VERSION:2.0
PRODID:-//nzce - ECPv6.15.15//NONSGML v1.0//EN
CALSCALE:GREGORIAN
METHOD:PUBLISH
X-ORIGINAL-URL:https://christianevents.nz
X-WR-CALDESC:Events for nzce
REFRESH-INTERVAL;VALUE=DURATION:PT1H
X-Robots-Tag:noindex
X-PUBLISHED-TTL:PT1H
BEGIN:VTIMEZONE
TZID:Pacific/Auckland
BEGIN:STANDARD
TZOFFSETFROM:+1300
TZOFFSETTO:+1200
TZNAME:NZST
DTSTART:20250405T140000
END:STANDARD
BEGIN:DAYLIGHT
TZOFFSETFROM:+1200
TZOFFSETTO:+1300
TZNAME:NZDT
DTSTART:20250927T140000
END:DAYLIGHT
BEGIN:STANDARD
TZOFFSETFROM:+1300
TZOFFSETTO:+1200
TZNAME:NZST
DTSTART:20260404T140000
END:STANDARD
BEGIN:DAYLIGHT
TZOFFSETFROM:+1200
TZOFFSETTO:+1300
TZNAME:NZDT
DTSTART:20260926T140000
END:DAYLIGHT
BEGIN:STANDARD
TZOFFSETFROM:+1300
TZOFFSETTO:+1200
TZNAME:NZST
DTSTART:20270403T140000
END:STANDARD
BEGIN:DAYLIGHT
TZOFFSETFROM:+1200
TZOFFSETTO:+1300
TZNAME:NZDT
DTSTART:20270925T140000
END:DAYLIGHT
END:VTIMEZONE
BEGIN:VEVENT
DTSTART;TZID=Pacific/Auckland:20260428T190000
DTEND;TZID=Pacific/Auckland:20260428T210000
DTSTAMP:20260426T034148
CREATED:20260407T100715Z
LAST-MODIFIED:20260407T100723Z
UID:4049-1777402800-1777410000@christianevents.nz
SUMMARY:Is The Big Bang Imploding? – Hamilton Reasons For Faith
DESCRIPTION:The Big Bang model that describes the evolution of the universe from its inception until now has become “the standard model” for the origin of the universe. The first half of the presentation describes the historical development of the ideas\, how we arrived at the current model and the astronomical observations on which it rests. \nThe James Web Space Telescope is designed to peer back into the past recesses of the universe in the belief that it would confirm the predictions of the Big Bang model. The second half of the talk describes some of the latest findings and the extent to which they confirm the model. \nIs The Big Bang Imploding?\nSpeaker: Roger Oed \n28th April 7:00 – 9:00 pm\nLady Goodfellow Chapel\, University of Waikato campus\, gate one
URL:https://christianevents.nz/event/is-the-big-bang-imploding-hamilton-reasons-for-faith/
LOCATION:Lady Goodfellow Chapel\, University of Waikato\, Gate One Knighton Rd\, Hamilton\, Waikato\, 3216\, New Zealand
CATEGORIES:Waikato
ATTACH;FMTTYPE=image/jpeg:https://christianevents.nz/wp-content/uploads/2026/04/April.jpg
END:VEVENT
BEGIN:VEVENT
DTSTART;TZID=Pacific/Auckland:20260430T173000
DTEND;TZID=Pacific/Auckland:20260501T170000
DTSTAMP:20260426T034148
CREATED:20260406T001919Z
LAST-MODIFIED:20260406T002915Z
UID:4037-1777570200-1777654800@christianevents.nz
SUMMARY:Founders Table Experience - Hamilton
DESCRIPTION:A faith-led\, hands-on gathering for Christian solo entrepreneurs and small business owners. Connect\, share\, and be inspired through Spirit-led networking\, table discussions\, Pecha Kucha mini talks\, and prayer over your business. \n📅 Thursday\, April 30 – Dinner & networking\n📅 Friday\, May 1 – Creative Immersion Day with hands-on mentoring \nEvent location and address\nFounders Table Evening: Plus 91 Cafe\, Hamilton 3 Ulster Street\, Whitiora\, Hamilton.\nCreative Immersion Day\, 7 Keitha Place\, Glenview\, Hamilton \nLimited seats — join us in Hamilton and leave encouraged\, equipped\, and ready to take bold steps in your God-led business. \nCost of attending event (Please label Adult/Child/Beneficiary etc if different costs for different groups of people). \n𝐃𝐚𝐲 𝟏: 𝐓𝐡𝐮𝐫𝐬𝐝𝐚𝐲\, 𝐀𝐩𝐫𝐢𝐥 𝟑𝟎 – 𝐅𝐨𝐮𝐧𝐝𝐞𝐫𝐬 𝐓𝐚𝐛𝐥𝐞 𝐃𝐢𝐧𝐧𝐞𝐫\nEarly Access (until April 10th)\n• Single: $55\n• Bring a Friend: $90\nRegular Tickets (after April 10th)\n• Single: $65\n• Bring a Friend: $110 \n𝐃𝐚𝐲 𝟐: 𝐅𝐫𝐢𝐝𝐚𝐲\, 𝐌𝐚𝐲 𝟏 – 𝐂𝐫𝐞𝐚𝐭𝐢𝐯𝐞 𝐈𝐦𝐦𝐞𝐫𝐬𝐢𝐨𝐧 𝐃𝐚𝐲\n• Tickets: Single $250\nOffered at ministry rates for God’s people in business \n𝐓𝐰𝐨-𝐃𝐚𝐲 𝐄𝐱𝐩𝐞𝐫𝐢𝐞𝐧𝐜𝐞 (𝐓𝐡𝐮𝐫𝐬𝐝𝐚𝐲 + 𝐅𝐫𝐢𝐝𝐚𝐲)\n• Tickets: Single $280\nMinistry rate applies to Friday \nAll prices in NZD and include GST. A small processing fee is added at checkout. \nReserve your seat now at:\nhttps://www.drawerfullofgiants.com/founders-table-experience-hamilton
URL:https://christianevents.nz/event/founders-table-experience-hamilton/
LOCATION:Plus 91 Cafe\, 3 Ulster Street\, Whitiora\, Hamilton\, Waikato\, 3200\, New Zealand
CATEGORIES:Waikato
ATTACH;FMTTYPE=image/png:https://christianevents.nz/wp-content/uploads/2026/04/FTE-Hamilton-cd4e88329ef5fce9e77af5e591893d5d.png
END:VEVENT
END:VCALENDAR