BEGIN:VCALENDAR
VERSION:2.0
PRODID:-//nzce - ECPv6.15.15//NONSGML v1.0//EN
CALSCALE:GREGORIAN
METHOD:PUBLISH
X-WR-CALNAME:nzce
X-ORIGINAL-URL:https://christianevents.nz
X-WR-CALDESC:Events for nzce
REFRESH-INTERVAL;VALUE=DURATION:PT1H
X-Robots-Tag:noindex
X-PUBLISHED-TTL:PT1H
BEGIN:VTIMEZONE
TZID:Pacific/Auckland
BEGIN:STANDARD
TZOFFSETFROM:+1300
TZOFFSETTO:+1200
TZNAME:NZST
DTSTART:20250405T140000
END:STANDARD
BEGIN:DAYLIGHT
TZOFFSETFROM:+1200
TZOFFSETTO:+1300
TZNAME:NZDT
DTSTART:20250927T140000
END:DAYLIGHT
BEGIN:STANDARD
TZOFFSETFROM:+1300
TZOFFSETTO:+1200
TZNAME:NZST
DTSTART:20260404T140000
END:STANDARD
BEGIN:DAYLIGHT
TZOFFSETFROM:+1200
TZOFFSETTO:+1300
TZNAME:NZDT
DTSTART:20260926T140000
END:DAYLIGHT
BEGIN:STANDARD
TZOFFSETFROM:+1300
TZOFFSETTO:+1200
TZNAME:NZST
DTSTART:20270403T140000
END:STANDARD
BEGIN:DAYLIGHT
TZOFFSETFROM:+1200
TZOFFSETTO:+1300
TZNAME:NZDT
DTSTART:20270925T140000
END:DAYLIGHT
END:VTIMEZONE
BEGIN:VEVENT
DTSTART;TZID=Pacific/Auckland:20260916T061500
DTEND;TZID=Pacific/Auckland:20260916T213000
DTSTAMP:20260426T114431
CREATED:20260119T024608Z
LAST-MODIFIED:20260119T024615Z
UID:3471-1789539300-1789594200@christianevents.nz
SUMMARY:Kirikiriroa Hamilton Prayer Breakfast
DESCRIPTION:Gathering to pray for our city \nJoin us as we gather to pray for the Greater Kirikiriroa Hamilton area.\nThe Kirikiriroa Hamilton Prayer Breakfast is organised in partnership with NZ Christian Network and Hamilton Christian Pastors & Leaders. \nDATE: 16 September 2026\nTIME: 06:15 – 09:30\nVENUE: Claudelands Events Centre \nA Call to Prayer Kirikiriroa Hamilton\nIn the New Testament\, we see Jesus and the apostles praying for the Church and we find Paul encouraging the Church to pray for one another and those in authority. Kirikiriroa Hamilton is a City for God’s glory to prevail through the manifestation of corporate prayer through the Church\, we are called to always pray for our City. \nThe Hamilton Prayer Breakfast will be the most ethnically diverse\, multi-denominational unity event on the Hamilton Christian calendar. Our 2025 event gathered around 450 people\, and many expressed how this year we want to invite more.\nPraise God for His goodness! \nFind out more and register at:\nhttps://prayerbreakfast.nz/hamilton/
URL:https://christianevents.nz/event/kirikiriroa-hamilton-prayer-breakfast/
LOCATION:Claudelands Event Centre\, Gate 4 Brooklyn Road\, Claudelands\, Hamilton\, Waikato\, 3214\, New Zealand
CATEGORIES:Waikato
ATTACH;FMTTYPE=image/webp:https://christianevents.nz/wp-content/uploads/2026/01/Kirikiriroa-Hamilton-PB_Header.webp
END:VEVENT
END:VCALENDAR