BEGIN:VCALENDAR
VERSION:2.0
PRODID:-//nzce - ECPv6.15.15//NONSGML v1.0//EN
CALSCALE:GREGORIAN
METHOD:PUBLISH
X-ORIGINAL-URL:https://christianevents.nz
X-WR-CALDESC:Events for nzce
REFRESH-INTERVAL;VALUE=DURATION:PT1H
X-Robots-Tag:noindex
X-PUBLISHED-TTL:PT1H
BEGIN:VTIMEZONE
TZID:Pacific/Auckland
BEGIN:STANDARD
TZOFFSETFROM:+1300
TZOFFSETTO:+1200
TZNAME:NZST
DTSTART:20250405T140000
END:STANDARD
BEGIN:DAYLIGHT
TZOFFSETFROM:+1200
TZOFFSETTO:+1300
TZNAME:NZDT
DTSTART:20250927T140000
END:DAYLIGHT
BEGIN:STANDARD
TZOFFSETFROM:+1300
TZOFFSETTO:+1200
TZNAME:NZST
DTSTART:20260404T140000
END:STANDARD
BEGIN:DAYLIGHT
TZOFFSETFROM:+1200
TZOFFSETTO:+1300
TZNAME:NZDT
DTSTART:20260926T140000
END:DAYLIGHT
BEGIN:STANDARD
TZOFFSETFROM:+1300
TZOFFSETTO:+1200
TZNAME:NZST
DTSTART:20270403T140000
END:STANDARD
BEGIN:DAYLIGHT
TZOFFSETFROM:+1200
TZOFFSETTO:+1300
TZNAME:NZDT
DTSTART:20270925T140000
END:DAYLIGHT
END:VTIMEZONE
BEGIN:VEVENT
DTSTART;TZID=Pacific/Auckland:20260515T170000
DTEND;TZID=Pacific/Auckland:20260517T120000
DTSTAMP:20260426T062019
CREATED:20260128T040508Z
LAST-MODIFIED:20260128T040514Z
UID:3514-1778864400-1779019200@christianevents.nz
SUMMARY:MMNZ Camp 2026 - Old Man vs the New Man
DESCRIPTION:Ephesians 4\n22 to put off your old self\, which belongs to your former manner of life and is corrupt through deceitful desires\, 23 and to be renewed in the spirit of your minds\, 24 and to put on the new self\, created after the likeness of God in true righteousness and holiness. \nBeing transformed by the renewal of your mind is the key to true breakthrough. A man can claim to believe in Jesus and attend church every Sunday\, yet still be deeply entangled in the things of this world. Salvation is not proven by attendance or words alone\, but by transformation. Renewing the mind requires spiritual maturity and a willingness to live out the commandments of the LORD. \nMany men become trapped in tradition and religion rather than relationship. This often has a profound impact on their family life\, marriages\, and personal relationships. Transformation requires action — the old man must be put to death so that the new man can be born. You cannot live in both worlds. The old nature must be surrendered for the new nature to take its place. \nThis topic creates an opportunity for men who have previously attended Mighty Men camps to testify to how they have grown in their faith. Speaking from lived experience strengthens the authenticity of our mission: equipping men to walk the walk\, not just talk the talk. \nIt also provides a safe space for men to step forward\, share their struggles\, and place themselves in accountability with the group. This openness builds courage and community\, encouraging men to return to future camps to testify about their breakthroughs\, answered prayers\, and miracles. \nThrough this teaching\, we can call sin by its name — not to condemn\, but to bring freedom. We can present a clear and strategic plan to walk away from destructive thoughts and behaviours\, helping men turn the tide in their lives\, begin bearing good fruit\, and live without regret. \nVENUE: \nThis year\, MMNZ will once again be hosting a weekend camp at Christian Youth Camps (CYC)\, the same beautiful venue as last year. Located just one hour south of Manukau City and 20 minutes north of Hamilton\, CYC is nestled between the Waipa River and the stunning Hakarimata Scenic Reserve. The camp spans 38 hectares of native bush\, pastures\, and excellent facilities. On clear days\, you can enjoy magnificent views of the Waikato\, with sights extending as far south as National Park. \nTickets from $120.00 \nFor more information and registration visit:\nhttps://www.eventbrite.com/e/mmnz-camp-2026-old-man-vs-the-new-man-tickets-1981501023903?aff=ebdssbcategorybrowse
URL:https://christianevents.nz/event/mmnz-camp-2026-old-man-vs-the-new-man/
LOCATION:Christian Youth Camps Inc\, 148 Waingaro Road\, Ngāruawāhia\, Waikato\, 3720\, New Zealand
CATEGORIES:Waikato
ATTACH;FMTTYPE=image/webp:https://christianevents.nz/wp-content/uploads/2026/01/image-4-1.webp
END:VEVENT
END:VCALENDAR