BEGIN:VCALENDAR
VERSION:2.0
PRODID:-//nzce - ECPv6.15.15//NONSGML v1.0//EN
CALSCALE:GREGORIAN
METHOD:PUBLISH
X-WR-CALNAME:nzce
X-ORIGINAL-URL:https://christianevents.nz
X-WR-CALDESC:Events for nzce
REFRESH-INTERVAL;VALUE=DURATION:PT1H
X-Robots-Tag:noindex
X-PUBLISHED-TTL:PT1H
BEGIN:VTIMEZONE
TZID:Pacific/Auckland
BEGIN:STANDARD
TZOFFSETFROM:+1300
TZOFFSETTO:+1200
TZNAME:NZST
DTSTART:20250405T140000
END:STANDARD
BEGIN:DAYLIGHT
TZOFFSETFROM:+1200
TZOFFSETTO:+1300
TZNAME:NZDT
DTSTART:20250927T140000
END:DAYLIGHT
BEGIN:STANDARD
TZOFFSETFROM:+1300
TZOFFSETTO:+1200
TZNAME:NZST
DTSTART:20260404T140000
END:STANDARD
BEGIN:DAYLIGHT
TZOFFSETFROM:+1200
TZOFFSETTO:+1300
TZNAME:NZDT
DTSTART:20260926T140000
END:DAYLIGHT
BEGIN:STANDARD
TZOFFSETFROM:+1300
TZOFFSETTO:+1200
TZNAME:NZST
DTSTART:20270403T140000
END:STANDARD
BEGIN:DAYLIGHT
TZOFFSETFROM:+1200
TZOFFSETTO:+1300
TZNAME:NZDT
DTSTART:20270925T140000
END:DAYLIGHT
END:VTIMEZONE
BEGIN:VEVENT
DTSTART;VALUE=DATE:20260706
DTEND;VALUE=DATE:20260710
DTSTAMP:20260426T073130
CREATED:20260407T101926Z
LAST-MODIFIED:20260407T102111Z
UID:4052-1783296000-1783641599@christianevents.nz
SUMMARY:TMC North - Winter 2026
DESCRIPTION:Equipping the Next Generation to Think\, Believe\, and Live for Christ\nDid you know that 70% of young adults leave the church by age 22 – or that only 4% of Gen Z hold a Biblical worldview? At our camp\, we’re tackling this head-on. We empower young people to wrestle with tough questions\, challenge their doubts\, and confidently defend their faith in a world full of competing ideas. \nThrough engaging discussions\, interactive sessions\, and real-life examples\, campers will explore the hardest questions facing Christians today – not just getting answers\, but learning how to study the Bible and think critically for themselves. From classrooms to workplaces and beyond\, they’ll discover how to boldly stand for Christ in every part of life. \nCampers will leave equipped\, confident\, and inspired to live out their faith as ambassadors for Christ. Don’t miss this opportunity to grow in faith\, make lasting friendships\, and dive deeper into God’s Word! \nRegistration: After clicking the “Register Now” link\, you’ll need to create an account with CYC Ngaruawahia to complete your registration through their website. \nCAMP SPEAKER – David Deane \n \nWe’re thrilled to announce that David Deane\, from Questioning Christianity\, is flying over from Australia to speak at this camp. \nDavid grew up in rural Australia and discovered a love for exploring life’s big questions while at university – a passion that has taken him from working in the defence and aerospace industry to speaking\, teaching\, and mentoring with Questioning Christianity (QC). He holds a Master’s degree in Christian Apologetics\, has studied at the Oxford Centre for Christian Apologetics\, and regularly addresses challenging questions at schools\, universities\, and churches. David is known for making faith thoughtful\, relatable\, and engaging\, and he loves inspiring young people to think deeply about God\, life\, and their own questions – while having fun along the way. \nCAMP NORTH: 6 – 9 JULY\, 2026\nAGES 15-20\nCYC Ngaruawahia // $220\nEARLY BIRD OFFER: $199 \nRegister before the 1st of May to get the Early Bird price of $199\, as well as entering the draw to win some TMC Merch of your choice. \nRegister at:\nhttps://www.thinkingmatters.org.nz/event/tmc-north-winter-2026/
URL:https://christianevents.nz/event/tmc-north-winter-2026/
LOCATION:Christian Youth Camps Inc\, 148 Waingaro Road\, Ngāruawāhia\, Waikato\, 3720\, New Zealand
CATEGORIES:Waikato
ATTACH;FMTTYPE=image/jpeg:https://christianevents.nz/wp-content/uploads/2026/04/Camp-North-Promo-Image.jpg
END:VEVENT
END:VCALENDAR