BEGIN:VCALENDAR
VERSION:2.0
PRODID:-//nzce - ECPv6.15.15//NONSGML v1.0//EN
CALSCALE:GREGORIAN
METHOD:PUBLISH
X-ORIGINAL-URL:https://christianevents.nz
X-WR-CALDESC:Events for nzce
REFRESH-INTERVAL;VALUE=DURATION:PT1H
X-Robots-Tag:noindex
X-PUBLISHED-TTL:PT1H
BEGIN:VTIMEZONE
TZID:Pacific/Auckland
BEGIN:STANDARD
TZOFFSETFROM:+1300
TZOFFSETTO:+1200
TZNAME:NZST
DTSTART:20250405T140000
END:STANDARD
BEGIN:DAYLIGHT
TZOFFSETFROM:+1200
TZOFFSETTO:+1300
TZNAME:NZDT
DTSTART:20250927T140000
END:DAYLIGHT
BEGIN:STANDARD
TZOFFSETFROM:+1300
TZOFFSETTO:+1200
TZNAME:NZST
DTSTART:20260404T140000
END:STANDARD
BEGIN:DAYLIGHT
TZOFFSETFROM:+1200
TZOFFSETTO:+1300
TZNAME:NZDT
DTSTART:20260926T140000
END:DAYLIGHT
BEGIN:STANDARD
TZOFFSETFROM:+1300
TZOFFSETTO:+1200
TZNAME:NZST
DTSTART:20270403T140000
END:STANDARD
BEGIN:DAYLIGHT
TZOFFSETFROM:+1200
TZOFFSETTO:+1300
TZNAME:NZDT
DTSTART:20270925T140000
END:DAYLIGHT
END:VTIMEZONE
BEGIN:VEVENT
DTSTART;TZID=Pacific/Auckland:20260619T193000
DTEND;TZID=Pacific/Auckland:20260620T213000
DTSTAMP:20260424T054248
CREATED:20260418T111335Z
LAST-MODIFIED:20260418T111335Z
UID:4130-1781897400-1781991000@christianevents.nz
SUMMARY:Gifted – A Day of Healing & Encounter
DESCRIPTION:Gifted is a day of worship\, teaching\, and intentional ministry where we make space for the power of God to move. As we gather\, we’ll lean into the work of the Holy Spirit – bringing healing\, freedom\, and restoration in real and personal ways. \nThroughout the day\, there will be Spirit-led teaching\, prayer ministry\, and dedicated times for inner healing\, healing\, creating space for breakthrough in the heart\, renewed faith\, and deeper wholeness and freedom. We believe God still heals\, restores\, and transforms lives today. \nWe’ll share food\, connect with one another\, and expect God to meet us in a tangible way.\nThis event is for everyone. \nCome hungry for more. \nLunch Provided!\nDates\nFriday 19 June 2026 \nLocation\nRichmond New Life Church\n85 Wensley Road \, Richmond 7020 \nBook now:\nhttps://www.trybooking.com/nz/events/landing/18861
URL:https://christianevents.nz/event/gifted-a-day-of-healing-encounter/
LOCATION:Richmond New Life\, 85 Wensley Road\, Richmond\, Tasman\, 7200\, New Zealand
CATEGORIES:Tasman
ATTACH;FMTTYPE=image/png:https://christianevents.nz/wp-content/uploads/2026/04/EHI18861-1b4302d45d3748b0af9d0d715605b4ff.png
END:VEVENT
END:VCALENDAR