BEGIN:VCALENDAR
VERSION:2.0
PRODID:-//nzce - ECPv6.15.15//NONSGML v1.0//EN
CALSCALE:GREGORIAN
METHOD:PUBLISH
X-WR-CALNAME:nzce
X-ORIGINAL-URL:https://christianevents.nz
X-WR-CALDESC:Events for nzce
REFRESH-INTERVAL;VALUE=DURATION:PT1H
X-Robots-Tag:noindex
X-PUBLISHED-TTL:PT1H
BEGIN:VTIMEZONE
TZID:Pacific/Auckland
BEGIN:STANDARD
TZOFFSETFROM:+1300
TZOFFSETTO:+1200
TZNAME:NZST
DTSTART:20250405T140000
END:STANDARD
BEGIN:DAYLIGHT
TZOFFSETFROM:+1200
TZOFFSETTO:+1300
TZNAME:NZDT
DTSTART:20250927T140000
END:DAYLIGHT
BEGIN:STANDARD
TZOFFSETFROM:+1300
TZOFFSETTO:+1200
TZNAME:NZST
DTSTART:20260404T140000
END:STANDARD
BEGIN:DAYLIGHT
TZOFFSETFROM:+1200
TZOFFSETTO:+1300
TZNAME:NZDT
DTSTART:20260926T140000
END:DAYLIGHT
BEGIN:STANDARD
TZOFFSETFROM:+1300
TZOFFSETTO:+1200
TZNAME:NZST
DTSTART:20270403T140000
END:STANDARD
BEGIN:DAYLIGHT
TZOFFSETFROM:+1200
TZOFFSETTO:+1300
TZNAME:NZDT
DTSTART:20270925T140000
END:DAYLIGHT
END:VTIMEZONE
BEGIN:VEVENT
DTSTART;TZID=Pacific/Auckland:20260418T160000
DTEND;TZID=Pacific/Auckland:20260418T200000
DTSTAMP:20260424T041421
CREATED:20260330T101621Z
LAST-MODIFIED:20260330T101631Z
UID:4003-1776528000-1776542400@christianevents.nz
SUMMARY:Men's Dinner Meeting with Len Buttner
DESCRIPTION:Calling the men of Southland — it’s time to gather.\nOn 18 April\, Central Southland Presbyterian Church is hosting a powerful Men’s Dinner Meeting with Len Buttner\, a prophetic voice committed to equipping the Church for the days ahead.\nCome ready to be challenged\, encouraged\, and sharpened as brothers in Christ. Enjoy a hearty meal\, meaningful conversation\, and a message that will stir your spirit. \n📅 Saturday 18 April\, 4pm\n📍 Winton — Central Southland Presbyterian Church\n💵 $50 (includes dinner)\n📩 Register: billshaz89@gmail.com \nLet’s build strong men\, strong families\, and a strong Church.
URL:https://christianevents.nz/event/mens-dinner-meeting-with-len-buttner/
LOCATION:Central Southland Presbyterian Church\, 11 Meldrum Street\, Winton\, Southland\, 9720\, New Zealand
CATEGORIES:Southland
ATTACH;FMTTYPE=image/jpeg:https://christianevents.nz/wp-content/uploads/2026/03/658365726_929307606516177_2166088566872462323_n.jpg
END:VEVENT
BEGIN:VEVENT
DTSTART;TZID=Pacific/Auckland:20260417T190000
DTEND;TZID=Pacific/Auckland:20260417T210000
DTSTAMP:20260424T041421
CREATED:20260330T102336Z
LAST-MODIFIED:20260330T102345Z
UID:4008-1776452400-1776459600@christianevents.nz
SUMMARY:Winton Aglow meeting with Len Buttner
DESCRIPTION:Winton Aglow warmly invites you to an evening of encouragement\, ministry\, and fellowship as we welcome Len Butner from Auckland.\nLen carries an itinerant prophetic ministry with a heart to strengthen and equip this generation through the power of the Holy Spirit. His focus is to help believers step into their God‑given destiny\, gifts\, and callings. \n📅 Event Details\n• Date: Friday\, 17 April 2026\n• Time: 7:00pm\n• Venue: Winton Presbyterian Church Hall \n💬 What to Expect\n• Uplifting prophetic ministry\n• Encouragement for your walk with God\n• A welcoming community atmosphere\n• Coffee and cake to follow \nEveryone is welcome. Come and be encouraged!
URL:https://christianevents.nz/event/winton-aglow-meeting-with-len-buttner/
LOCATION:Central Southland Presbyterian Church\, 11 Meldrum Street\, Winton\, Southland\, 9720\, New Zealand
CATEGORIES:Southland
ATTACH;FMTTYPE=image/jpeg:https://christianevents.nz/wp-content/uploads/2026/03/658665112_929323873181217_8897415619081279966_n.jpg
END:VEVENT
END:VCALENDAR