BEGIN:VCALENDAR
VERSION:2.0
PRODID:-//nzce - ECPv6.15.15//NONSGML v1.0//EN
CALSCALE:GREGORIAN
METHOD:PUBLISH
X-WR-CALNAME:nzce
X-ORIGINAL-URL:https://christianevents.nz
X-WR-CALDESC:Events for nzce
REFRESH-INTERVAL;VALUE=DURATION:PT1H
X-Robots-Tag:noindex
X-PUBLISHED-TTL:PT1H
BEGIN:VTIMEZONE
TZID:Pacific/Auckland
BEGIN:STANDARD
TZOFFSETFROM:+1300
TZOFFSETTO:+1200
TZNAME:NZST
DTSTART:20250405T140000
END:STANDARD
BEGIN:DAYLIGHT
TZOFFSETFROM:+1200
TZOFFSETTO:+1300
TZNAME:NZDT
DTSTART:20250927T140000
END:DAYLIGHT
BEGIN:STANDARD
TZOFFSETFROM:+1300
TZOFFSETTO:+1200
TZNAME:NZST
DTSTART:20260404T140000
END:STANDARD
BEGIN:DAYLIGHT
TZOFFSETFROM:+1200
TZOFFSETTO:+1300
TZNAME:NZDT
DTSTART:20260926T140000
END:DAYLIGHT
BEGIN:STANDARD
TZOFFSETFROM:+1300
TZOFFSETTO:+1200
TZNAME:NZST
DTSTART:20270403T140000
END:STANDARD
BEGIN:DAYLIGHT
TZOFFSETFROM:+1200
TZOFFSETTO:+1300
TZNAME:NZDT
DTSTART:20270925T140000
END:DAYLIGHT
END:VTIMEZONE
BEGIN:VEVENT
DTSTART;TZID=Pacific/Auckland:20260326T190000
DTEND;TZID=Pacific/Auckland:20260328T130000
DTSTAMP:20260426T101647
CREATED:20260120T030841Z
LAST-MODIFIED:20260120T031402Z
UID:3491-1774551600-1774702800@christianevents.nz
SUMMARY:Diamonds in the Dust
DESCRIPTION:A conference designed to teach you the tools to uncover the gems in your Bible. \nVENUE:\nWelcome Bay Community Church\, 340 Welcome Bay Rd\, Welcome Bay\, Tauranga \nDATES\n26-28th March 2026\nThursday\, 7:00 – 9:00pm\nFriday\, 8:40am – 4:00pm\nSaturday\, 8:40am – 1:00pm \nCOST\n$60 per person or $100 per couple.\nAvailable in-person or online. \nThere is a discounted rate for those who sign up for the “Rhythm of Eternity” course and “Diamonds in the Dust” conference.\nCourse + Conference – $100 per person or $180 per couple. \nRegister at:\nhttps://wbcc.org.nz/course/ \nView program here
URL:https://christianevents.nz/event/diamonds-in-the-dust/
LOCATION:Welcome Bay Community Church\, 40 Welcome Bay Rd\, Welcome Bay\, Tauranga\, Bay of Plenty\, New Zealand
CATEGORIES:Nelson
ATTACH;FMTTYPE=image/png:https://christianevents.nz/wp-content/uploads/2026/01/Conference-cover-page-2bd29a4f900665862e865b5c0f5e4b25.png
END:VEVENT
BEGIN:VEVENT
DTSTART;TZID=Pacific/Auckland:20260327T183000
DTEND;TZID=Pacific/Auckland:20260328T163000
DTSTAMP:20260426T101647
CREATED:20260127T044441Z
LAST-MODIFIED:20260313T055018Z
UID:3507-1774636200-1774715400@christianevents.nz
SUMMARY:Arise & Shine Gathering: "The Unveiling"
DESCRIPTION:This is more than a gathering — it’s an invitation\, to step into the fullness of who God says you are\, being now transformed from glory to glory. \nUnderstanding Our Creator more\, “unveiled” and with our eyes enlightened- understanding some of the deeper mysteries and why we are so important to God \n“But we all\, with unveiled face\, beholding the glory of the Lord\, as in mirror are being transformed…” — 2 Corinthians 3:18 \nVenue: Impact Church\, 16-18 Halifax Street\, Nelson \nFriday 27th March 6:30pm & Saturday 28th March 9am – 4.30pm \nTickets here – https://events.humanitix.com/the-unveiling \nCost:\nAdult Tickets $69pp
URL:https://christianevents.nz/event/arise-shine-gathering-the-unveiling/
LOCATION:Impact Church Nelson\, 16-18 Halifax Street\, Nelson\, Nelson\, 7010\, New Zealand
CATEGORIES:Nelson
ATTACH;FMTTYPE=image/jpeg:https://christianevents.nz/wp-content/uploads/2026/01/TheUnveiling-Jan2025_Facebook3-f8aea12e16510e2ade9bc9e3dc6fdde7.jpg
ORGANIZER;CN="Arise&Shine Ministries":MAILTO:angela@thekingdomcentre.co.nz
END:VEVENT
END:VCALENDAR