BEGIN:VCALENDAR
VERSION:2.0
PRODID:-//nzce - ECPv6.15.15//NONSGML v1.0//EN
CALSCALE:GREGORIAN
METHOD:PUBLISH
X-ORIGINAL-URL:https://christianevents.nz
X-WR-CALDESC:Events for nzce
REFRESH-INTERVAL;VALUE=DURATION:PT1H
X-Robots-Tag:noindex
X-PUBLISHED-TTL:PT1H
BEGIN:VTIMEZONE
TZID:Pacific/Auckland
BEGIN:STANDARD
TZOFFSETFROM:+1300
TZOFFSETTO:+1200
TZNAME:NZST
DTSTART:20250405T140000
END:STANDARD
BEGIN:DAYLIGHT
TZOFFSETFROM:+1200
TZOFFSETTO:+1300
TZNAME:NZDT
DTSTART:20250927T140000
END:DAYLIGHT
BEGIN:STANDARD
TZOFFSETFROM:+1300
TZOFFSETTO:+1200
TZNAME:NZST
DTSTART:20260404T140000
END:STANDARD
BEGIN:DAYLIGHT
TZOFFSETFROM:+1200
TZOFFSETTO:+1300
TZNAME:NZDT
DTSTART:20260926T140000
END:DAYLIGHT
BEGIN:STANDARD
TZOFFSETFROM:+1300
TZOFFSETTO:+1200
TZNAME:NZST
DTSTART:20270403T140000
END:STANDARD
BEGIN:DAYLIGHT
TZOFFSETFROM:+1200
TZOFFSETTO:+1300
TZNAME:NZDT
DTSTART:20270925T140000
END:DAYLIGHT
END:VTIMEZONE
BEGIN:VEVENT
DTSTART;VALUE=DATE:20260514
DTEND;VALUE=DATE:20260518
DTSTAMP:20260424T023635
CREATED:20260322T223612Z
LAST-MODIFIED:20260322T223721Z
UID:3809-1778716800-1779062399@christianevents.nz
SUMMARY:The New Zealand Christian Outdoor Leaders Conference
DESCRIPTION:Calling all Christian Outdoor Leaders\, COLC is back! Come and be boosted in faith\, skill\, friendship and adventure this May… \nWelcome to the New Zealand Christian Outdoor Leaders Conference. \nAfter a number of years on hiatus\, the Christian Outdoor Leader Conference is back! This is a fantastic opportunity to dive into thought provoking keynote sessions\, upskill via workshops (or run a workshop)\, build friendships and make memories with other Christian Outdoor Leaders. \nSpeaker: Paul Humphreys \nTopic: Living the Difference; Embodying the Peace of Christ in an Age of Distraction. \nFamilies welcome! No kids programme but there is the great outdoors \n14th – 17th May 2026\nBlue Mountain Adventure Centre\n17 Pito Street\, Raurimu \nVisit https://www.eventbrite.com/e/the-new-zealand-christian-outdoor-leaders-conference-tickets-1983412659657 for more information and registration
URL:https://christianevents.nz/event/the-new-zealand-christian-outdoor-leaders-conference/
LOCATION:Blue Mountain Adventure Centre\, 17 Pito Street\, Raurimu\, Manawatu-Whanganui\, 3989\, New Zealand
CATEGORIES:Manawatu-Whanganui
ATTACH;FMTTYPE=image/webp:https://christianevents.nz/wp-content/uploads/2026/03/image-5-1.webp
END:VEVENT
END:VCALENDAR