BEGIN:VCALENDAR
VERSION:2.0
PRODID:-//nzce - ECPv6.15.15//NONSGML v1.0//EN
CALSCALE:GREGORIAN
METHOD:PUBLISH
X-WR-CALNAME:nzce
X-ORIGINAL-URL:https://christianevents.nz
X-WR-CALDESC:Events for nzce
REFRESH-INTERVAL;VALUE=DURATION:PT1H
X-Robots-Tag:noindex
X-PUBLISHED-TTL:PT1H
BEGIN:VTIMEZONE
TZID:Pacific/Auckland
BEGIN:STANDARD
TZOFFSETFROM:+1300
TZOFFSETTO:+1200
TZNAME:NZST
DTSTART:20250405T140000
END:STANDARD
BEGIN:DAYLIGHT
TZOFFSETFROM:+1200
TZOFFSETTO:+1300
TZNAME:NZDT
DTSTART:20250927T140000
END:DAYLIGHT
BEGIN:STANDARD
TZOFFSETFROM:+1300
TZOFFSETTO:+1200
TZNAME:NZST
DTSTART:20260404T140000
END:STANDARD
BEGIN:DAYLIGHT
TZOFFSETFROM:+1200
TZOFFSETTO:+1300
TZNAME:NZDT
DTSTART:20260926T140000
END:DAYLIGHT
BEGIN:STANDARD
TZOFFSETFROM:+1300
TZOFFSETTO:+1200
TZNAME:NZST
DTSTART:20270403T140000
END:STANDARD
BEGIN:DAYLIGHT
TZOFFSETFROM:+1200
TZOFFSETTO:+1300
TZNAME:NZDT
DTSTART:20270925T140000
END:DAYLIGHT
END:VTIMEZONE
BEGIN:VEVENT
DTSTART;TZID=Pacific/Auckland:20260730T063000
DTEND;TZID=Pacific/Auckland:20260730T213000
DTSTAMP:20260426T085522
CREATED:20260406T111456Z
LAST-MODIFIED:20260406T111505Z
UID:4042-1785393000-1785447000@christianevents.nz
SUMMARY:Christchurch Prayer Breakfast 2026
DESCRIPTION:DATE: 30 July 2026\nTIME: 06:30 – 09:30\nVENUE: Ōtautahi Lounge\, One New Zealand Stadium \nArrival & Programme:\n06:30 Doors open\n06:55 Mihi whakatau | Waiata\n08:20 Karakia to bless the kai & breakfast is served\n08:45 Karakia whakamutunga | Closing blessing \nJoin with church\, NGO\, mission\, business\, and other Christian leaders from across the city for our Christchurch Prayer Breakfast!
URL:https://christianevents.nz/event/christchurch-prayer-breakfast-2026/
LOCATION:Ōtautahi Lounge\, One New Zealand Stadium\, 218 Madras Street\, Christchurch\, 8011\, New Zealand
CATEGORIES:Canterbury
ATTACH;FMTTYPE=image/webp:https://christianevents.nz/wp-content/uploads/2026/04/gvfj7G4TyPrbXhuha6sQ@responsive-500.webp
END:VEVENT
END:VCALENDAR