BEGIN:VCALENDAR
VERSION:2.0
PRODID:-//nzce - ECPv6.15.15//NONSGML v1.0//EN
CALSCALE:GREGORIAN
METHOD:PUBLISH
X-WR-CALNAME:nzce
X-ORIGINAL-URL:https://christianevents.nz
X-WR-CALDESC:Events for nzce
REFRESH-INTERVAL;VALUE=DURATION:PT1H
X-Robots-Tag:noindex
X-PUBLISHED-TTL:PT1H
BEGIN:VTIMEZONE
TZID:Pacific/Auckland
BEGIN:STANDARD
TZOFFSETFROM:+1300
TZOFFSETTO:+1200
TZNAME:NZST
DTSTART:20250405T140000
END:STANDARD
BEGIN:DAYLIGHT
TZOFFSETFROM:+1200
TZOFFSETTO:+1300
TZNAME:NZDT
DTSTART:20250927T140000
END:DAYLIGHT
BEGIN:STANDARD
TZOFFSETFROM:+1300
TZOFFSETTO:+1200
TZNAME:NZST
DTSTART:20260404T140000
END:STANDARD
BEGIN:DAYLIGHT
TZOFFSETFROM:+1200
TZOFFSETTO:+1300
TZNAME:NZDT
DTSTART:20260926T140000
END:DAYLIGHT
BEGIN:STANDARD
TZOFFSETFROM:+1300
TZOFFSETTO:+1200
TZNAME:NZST
DTSTART:20270403T140000
END:STANDARD
BEGIN:DAYLIGHT
TZOFFSETFROM:+1200
TZOFFSETTO:+1300
TZNAME:NZDT
DTSTART:20270925T140000
END:DAYLIGHT
END:VTIMEZONE
BEGIN:VEVENT
DTSTART;TZID=Pacific/Auckland:20260523T083000
DTEND;TZID=Pacific/Auckland:20260523T173000
DTSTAMP:20260426T062631
CREATED:20260413T060519Z
LAST-MODIFIED:20260413T060809Z
UID:4106-1779525000-1779557400@christianevents.nz
SUMMARY:Reflect Conference - Christchurch
DESCRIPTION:Reflect Conference is a full-day event for Christian healthcare workers and students to gather for a time of worship and learning. This year we gather to envision a society where health is not a privilege but a right—where every person is invited into the fullness of life as God intended. Anchored in the biblical call of Isaiah 1:17 to “learn to do right; seek justice\,” we gather to pursue a vision of JUST Health- a health that is holistic\, equitable\, and deeply relational. \nGod’s vision for health is Shalom\, a world where individuals and communities flourish physically\, mentally\, socially\, and spiritually. We will explore how our work can reflect the heart of Christ and restore dignity to all. \nRegister at:\nhttps://cmf.nz/events/reflect-conference-2026/
URL:https://christianevents.nz/event/reflect-conference-christchurch/
LOCATION:Oxford Terrace Baptist Church\, 288 Oxford Terrace\, Christchurch Central City\, Christchurch\, Canterbury\, 8011\, New Zealand
CATEGORIES:Canterbury
ATTACH;FMTTYPE=image/png:https://christianevents.nz/wp-content/uploads/2026/04/Reflect-light-1024x576-2.png
END:VEVENT
END:VCALENDAR