BEGIN:VCALENDAR
VERSION:2.0
PRODID:-//nzce - ECPv6.15.15//NONSGML v1.0//EN
CALSCALE:GREGORIAN
METHOD:PUBLISH
X-ORIGINAL-URL:https://christianevents.nz
X-WR-CALDESC:Events for nzce
REFRESH-INTERVAL;VALUE=DURATION:PT1H
X-Robots-Tag:noindex
X-PUBLISHED-TTL:PT1H
BEGIN:VTIMEZONE
TZID:Pacific/Auckland
BEGIN:STANDARD
TZOFFSETFROM:+1300
TZOFFSETTO:+1200
TZNAME:NZST
DTSTART:20250405T140000
END:STANDARD
BEGIN:DAYLIGHT
TZOFFSETFROM:+1200
TZOFFSETTO:+1300
TZNAME:NZDT
DTSTART:20250927T140000
END:DAYLIGHT
BEGIN:STANDARD
TZOFFSETFROM:+1300
TZOFFSETTO:+1200
TZNAME:NZST
DTSTART:20260404T140000
END:STANDARD
BEGIN:DAYLIGHT
TZOFFSETFROM:+1200
TZOFFSETTO:+1300
TZNAME:NZDT
DTSTART:20260926T140000
END:DAYLIGHT
BEGIN:STANDARD
TZOFFSETFROM:+1300
TZOFFSETTO:+1200
TZNAME:NZST
DTSTART:20270403T140000
END:STANDARD
BEGIN:DAYLIGHT
TZOFFSETFROM:+1200
TZOFFSETTO:+1300
TZNAME:NZDT
DTSTART:20270925T140000
END:DAYLIGHT
END:VTIMEZONE
BEGIN:VEVENT
DTSTART;TZID=Pacific/Auckland:20260501T190000
DTEND;TZID=Pacific/Auckland:20260502T163000
DTSTAMP:20260426T045657
CREATED:20260412T113213Z
LAST-MODIFIED:20260412T113220Z
UID:4083-1777662000-1777739400@christianevents.nz
SUMMARY:SHARPENED Prophetically
DESCRIPTION:Sharpen your prophetic sensitivity\, and refine your listening and delivery skills\, by joining us in a weekend of teaching. Spirit-led activation and worship. \nCost:\n$60 per person
URL:https://christianevents.nz/event/sharpened-prophetically/
LOCATION:Church of the Epiphany\, 33 Jollies Pass Road\, Hanmer Springs\, Canterbury\, 7334\, New Zealand
CATEGORIES:Canterbury
ATTACH;FMTTYPE=image/jpeg:https://christianevents.nz/wp-content/uploads/2026/04/IMG_5962-acb79abeda3c0777ffbecde49c6eec04-1.jpeg
END:VEVENT
END:VCALENDAR