BEGIN:VCALENDAR
VERSION:2.0
PRODID:-//nzce - ECPv6.15.15//NONSGML v1.0//EN
CALSCALE:GREGORIAN
METHOD:PUBLISH
X-WR-CALNAME:nzce
X-ORIGINAL-URL:https://christianevents.nz
X-WR-CALDESC:Events for nzce
REFRESH-INTERVAL;VALUE=DURATION:PT1H
X-Robots-Tag:noindex
X-PUBLISHED-TTL:PT1H
BEGIN:VTIMEZONE
TZID:Pacific/Auckland
BEGIN:STANDARD
TZOFFSETFROM:+1300
TZOFFSETTO:+1200
TZNAME:NZST
DTSTART:20250405T140000
END:STANDARD
BEGIN:DAYLIGHT
TZOFFSETFROM:+1200
TZOFFSETTO:+1300
TZNAME:NZDT
DTSTART:20250927T140000
END:DAYLIGHT
BEGIN:STANDARD
TZOFFSETFROM:+1300
TZOFFSETTO:+1200
TZNAME:NZST
DTSTART:20260404T140000
END:STANDARD
BEGIN:DAYLIGHT
TZOFFSETFROM:+1200
TZOFFSETTO:+1300
TZNAME:NZDT
DTSTART:20260926T140000
END:DAYLIGHT
BEGIN:STANDARD
TZOFFSETFROM:+1300
TZOFFSETTO:+1200
TZNAME:NZST
DTSTART:20270403T140000
END:STANDARD
BEGIN:DAYLIGHT
TZOFFSETFROM:+1200
TZOFFSETTO:+1300
TZNAME:NZDT
DTSTART:20270925T140000
END:DAYLIGHT
END:VTIMEZONE
BEGIN:VEVENT
DTSTART;TZID=Pacific/Auckland:20260511T063000
DTEND;TZID=Pacific/Auckland:20260511T084500
DTSTAMP:20260426T062019
CREATED:20260412T114003Z
LAST-MODIFIED:20260412T114134Z
UID:4088-1778481000-1778489100@christianevents.nz
SUMMARY:The Well | Real Stories of Faith at Work - Tauranga
DESCRIPTION:Come and enjoy breakfast whilst hearing from a panel of three businesspeople with diverse backgrounds as they share autobiographical stories of the difference that God makes in their business lives. \nMon\, 11 May\, 6:30am – 8:45am\nTrinity Wharf Tauranga \nRegister at:\nhttps://events.humanitix.com/tauranga_the-well_real-stories-of-faith-at-work
URL:https://christianevents.nz/event/the-well-real-stories-of-faith-at-work-tauranga/
LOCATION:Trinity Wharf Tauranga\, 51 Dive Crescent\, Tauranga\, Bay of Plenty\, 3110\, New Zealand
CATEGORIES:Bay of Plenty
ATTACH;FMTTYPE=image/jpeg:https://christianevents.nz/wp-content/uploads/2026/04/The-Well-Banner-1024x512-1.jpg
END:VEVENT
END:VCALENDAR