BEGIN:VCALENDAR
VERSION:2.0
PRODID:-//nzce - ECPv6.15.15//NONSGML v1.0//EN
CALSCALE:GREGORIAN
METHOD:PUBLISH
X-ORIGINAL-URL:https://christianevents.nz
X-WR-CALDESC:Events for nzce
REFRESH-INTERVAL;VALUE=DURATION:PT1H
X-Robots-Tag:noindex
X-PUBLISHED-TTL:PT1H
BEGIN:VTIMEZONE
TZID:Pacific/Auckland
BEGIN:STANDARD
TZOFFSETFROM:+1300
TZOFFSETTO:+1200
TZNAME:NZST
DTSTART:20250405T140000
END:STANDARD
BEGIN:DAYLIGHT
TZOFFSETFROM:+1200
TZOFFSETTO:+1300
TZNAME:NZDT
DTSTART:20250927T140000
END:DAYLIGHT
BEGIN:STANDARD
TZOFFSETFROM:+1300
TZOFFSETTO:+1200
TZNAME:NZST
DTSTART:20260404T140000
END:STANDARD
BEGIN:DAYLIGHT
TZOFFSETFROM:+1200
TZOFFSETTO:+1300
TZNAME:NZDT
DTSTART:20260926T140000
END:DAYLIGHT
BEGIN:STANDARD
TZOFFSETFROM:+1300
TZOFFSETTO:+1200
TZNAME:NZST
DTSTART:20270403T140000
END:STANDARD
BEGIN:DAYLIGHT
TZOFFSETFROM:+1200
TZOFFSETTO:+1300
TZNAME:NZDT
DTSTART:20270925T140000
END:DAYLIGHT
END:VTIMEZONE
BEGIN:VEVENT
DTSTART;TZID=Pacific/Auckland:20260501T190000
DTEND;TZID=Pacific/Auckland:20260502T160000
DTSTAMP:20260426T050002
CREATED:20260416T062101Z
LAST-MODIFIED:20260416T062101Z
UID:4110-1777662000-1777737600@christianevents.nz
SUMMARY:Basic Sozo Training
DESCRIPTION:The aim of the Sozo ministry is to help people gain a greater level of freedom and connection with the Father\, Son and Holy Spirit \nVenue:\nLiberty Church\, 65 Wairaka Rd\, Whakatane \nCost:\n$50.00 per person which includes the workbook\, a handout\, and morning and afternoon tea. \n 
URL:https://christianevents.nz/event/basic-sozo-training/
LOCATION:Liberty Church\, 65 Wairaka Rd\, Whakatane\, Bay of Plenty\, 3120\, New Zealand
CATEGORIES:Bay of Plenty
ATTACH;FMTTYPE=image/jpeg:https://christianevents.nz/wp-content/uploads/2026/04/sozo-training.jpg
END:VEVENT
END:VCALENDAR