BEGIN:VCALENDAR
VERSION:2.0
PRODID:-//nzce - ECPv6.15.15//NONSGML v1.0//EN
CALSCALE:GREGORIAN
METHOD:PUBLISH
X-ORIGINAL-URL:https://christianevents.nz
X-WR-CALDESC:Events for nzce
REFRESH-INTERVAL;VALUE=DURATION:PT1H
X-Robots-Tag:noindex
X-PUBLISHED-TTL:PT1H
BEGIN:VTIMEZONE
TZID:Pacific/Auckland
BEGIN:STANDARD
TZOFFSETFROM:+1300
TZOFFSETTO:+1200
TZNAME:NZST
DTSTART:20250405T140000
END:STANDARD
BEGIN:DAYLIGHT
TZOFFSETFROM:+1200
TZOFFSETTO:+1300
TZNAME:NZDT
DTSTART:20250927T140000
END:DAYLIGHT
BEGIN:STANDARD
TZOFFSETFROM:+1300
TZOFFSETTO:+1200
TZNAME:NZST
DTSTART:20260404T140000
END:STANDARD
BEGIN:DAYLIGHT
TZOFFSETFROM:+1200
TZOFFSETTO:+1300
TZNAME:NZDT
DTSTART:20260926T140000
END:DAYLIGHT
BEGIN:STANDARD
TZOFFSETFROM:+1300
TZOFFSETTO:+1200
TZNAME:NZST
DTSTART:20270403T140000
END:STANDARD
BEGIN:DAYLIGHT
TZOFFSETFROM:+1200
TZOFFSETTO:+1300
TZNAME:NZDT
DTSTART:20270925T140000
END:DAYLIGHT
END:VTIMEZONE
BEGIN:VEVENT
DTSTART;TZID=Pacific/Auckland:20260425T080000
DTEND;TZID=Pacific/Auckland:20260425T080000
DTSTAMP:20260426T034349
CREATED:20260112T045810Z
LAST-MODIFIED:20260112T050234Z
UID:3444-1777104000-1777104000@christianevents.nz
SUMMARY:Strengthen what remains
DESCRIPTION:As we watch Bible prophecy fulfilling and world affairs intensifying\, come along and be strengthened at this event hosted by watchman.org.nz \nBilly Crone of getalifemedia.com and friends are coming to Auckland\, New Zealand. They have a great understanding of current world events\, and in depth Biblical knowledge. Each bringing their particular field of expertise. \nAs our world is rapidly changing\, are you aware of what the Bible says about this time? Come along be informed\, updated\, and encouraged as we STRENGTHEN WHAT REMAINS \nEvent Details:\nHeld at Horizon Church – 9 Mono Place\, Mount Wellington\, Auckland \nAll day event with doors opening at 8.00am Saturday\, 25 April 2026 \nNo registration fees \nResources:\nWe have a selection of books available for purchase at the conference. EFTPOS debit card\, or cash \nDonation:\nIf you would like to contribute to this event\, donation facilities will be available. EFTPOS debit card\, cash\, or please contact us at info@watchman.org.nz \nCome and be encouraged and inspired at this event hosted by watchman.org.nz. \nYOU MUST REGISTER to secure a seat at this free event. \nRegister at:\nhttps://www.eventbrite.co.nz/e/strengthen-what-remains-tickets-1976690403207?aff=ebdssbcategorybrowse&keep_tld=1
URL:https://christianevents.nz/event/strengthen-what-remains/
LOCATION:Horizon Church\, 9 Mono Place\, Mount Wellington\, Auckland\, Auckland\, 1051\, New Zealand
CATEGORIES:Auckland
ATTACH;FMTTYPE=image/jpeg:https://christianevents.nz/wp-content/uploads/2026/01/https___cdn.evbuc_.com_images_1172216005_2575590399151_1_original.jpg
END:VEVENT
BEGIN:VEVENT
DTSTART;TZID=Pacific/Auckland:20260422T190000
DTEND;TZID=Pacific/Auckland:20260422T203000
DTSTAMP:20260426T034349
CREATED:20260313T050956Z
LAST-MODIFIED:20260313T051002Z
UID:3731-1776884400-1776889800@christianevents.nz
SUMMARY:The Greatest Hits of Biblical Archaeology – Dr John Bloom
DESCRIPTION:Join us for an engaging and thought-provoking talk by Dr John Bloom\, where the mysteries of ancient history come alive! Drawing on decades of research at the intersection of archaeology\, history\, and ancient texts\, Dr Bloom takes audiences on a journey through some of archaeology’s most fascinating discoveries — revealing how physical evidence from the past illuminates the world’s oldest stories and challenges the way we think about history and culture. Whether you’re curious about ancient civilizations\, archaeology’s role in uncovering our shared human past\, or how discoveries shape our understanding of sacred texts\, this talk will inspire you with big ideas from the ancient world brought vividly into the present. \nThis is a free event\, though an offering for our speaker would be appreciated! \nAbout John Bloom\, PhD \nJohn Bloom earned a PhD in physics from Cornell University\, then went to seminary and completed a second PhD in Ancient Near Eastern studies (Old Testament backgrounds) so that he would have advanced formal training in both science and theology. For the past 29 years he has taught physics at Biola University. He also started the Master of Arts in Science and Religion program at Biola’s Talbot School of Theology in 2004\, in collaboration with the Christian Apologetics program. Bloom enjoys teaching courses that integrate Christianity and science because of the importance of these topics both in today’s culture and to other scientists.
URL:https://christianevents.nz/event/the-greatest-hits-of-biblical-archaeology-dr-john-bloom/
LOCATION:The Journey Church\, 1 Marewa Road\, Greenlane\, Auckland\, Auckland\, 1051\, New Zealand
CATEGORIES:Auckland
ATTACH;FMTTYPE=image/jpeg:https://christianevents.nz/wp-content/uploads/2026/03/Greatest-Hits-of-Biblical-Archaeology.jpg
END:VEVENT
BEGIN:VEVENT
DTSTART;TZID=Pacific/Auckland:20260418T093000
DTEND;TZID=Pacific/Auckland:20260418T170000
DTSTAMP:20260426T034349
CREATED:20260201T092641Z
LAST-MODIFIED:20260201T092818Z
UID:3567-1776504600-1776531600@christianevents.nz
SUMMARY:A day together - Auckland
DESCRIPTION:A Day Together… an enjoyable\, inspirational\, uplifting seminar that will show you how to enjoy your marriage – not just endure it! \nWhether your relationship is fantastic or faltering why not grab this opportunity to get away for a day together\, from the distractions and busyness of everyday life\, to listen\, learn and laugh… to talk and reconnect. You’ll be so glad you did! \nIn five fun-filled sessions you will:\n– understand why relationships can be hard work\n– discover the keys for strong relationships\n– learn how to handle conflict\n– discover how you can have a vibrant sexual relationship\n– and how marriages thrive \nRegistration on the day is from 9:15am for a 9:30am start\, concluding the day by 5pm.\nMorning and afternoon tea is provided. \nThis seminar is guaranteed to be fun! You’ll laugh together with the dynamic speakers who will present proven relationship principles using real personal stories\, and give you the tools you need to improve communication and keep your marriage vibrant.\nAt FamilyLife\, we believe that to be successful in life\, you also need to be winning at home. We also understand the pressures that you live under day by day\, and want to offer you a game plan that works! \nFamilyLife’s speaker couples are a dynamic team who are committed to both encourage and equip you to build a strong\, lasting relationship. What they present is not one person’s opinion but the result of three decades of research distilled into what it takes to make a successful marriage. \nWhy not get away for just one day and reconnect – talk about the stuff that really matters. You’ll be so glad you did.\n“It was like recharging the battery in our marriage.”\n“We didn’t want to go at first. We thought who would want to spend a whole day hearing about marriage? It’s been absolutely awesome. We’re both just so glad we came.” \nTickets link:\nhttps://familylife.nz/events/a-day-together/
URL:https://christianevents.nz/event/a-day-together-auckland/
LOCATION:Eden Church\, 72-74 View Road\, Mount Eden\, Auckland\, 1024\, New Zealand
CATEGORIES:Auckland
ATTACH;FMTTYPE=image/jpeg:https://christianevents.nz/wp-content/uploads/2026/02/599929918_1443733131085840_5463686918767307963_n.jpg
END:VEVENT
BEGIN:VEVENT
DTSTART;TZID=Pacific/Auckland:20260418T090000
DTEND;TZID=Pacific/Auckland:20260418T150000
DTSTAMP:20260426T034349
CREATED:20260407T103048Z
LAST-MODIFIED:20260407T103140Z
UID:4056-1776502800-1776524400@christianevents.nz
SUMMARY:Milk & Honey: Financial Freedom Seminar
DESCRIPTION:Last year’s gathering was a powerful marker for many in our whānau\, as we saw the Holy Spirit break chains of debt and replace financial anxiety with Kingdom peace. \nWe are returning to the Hope Centre this April to build on that foundation and step into the more of God’s provision. \nThis isn’t just about numbers; it is about stewardship and the raw power of Jesus to provide in any economy. Whether you are struggling to make ends meet or looking to sow into the nations\, this day is for you. \nCome and receive the tools to move from survival to a life of Milk and Honey. \nSeminar Highlights\nKingdom Economy: Shifting from a scarcity mindset to the abundance of the Father. \nPractical Wisdom: Spiritual principles for managing what is in your hand. \nHealing and Deliverance: Breaking the spiritual roots of poverty and lack. \nVision for the Future: Planning for a legacy that blesses the generations. \nEvent Logistics\nDate: 18 April 2026 \nTime: 9am – 3pm \nLocation: Hope Centre Church\, Kolmar Rd\, Papatoetoe \nParking: We have a large car park with free parking for all attendees. \nCost: This event is completely free\, but registration is required. \nChildcare: None\, this event is not suitable for children. \nRegister Your Interest\nhttps://www.pioneerministry.com/events/milk-honey-kingdom-business-seminar
URL:https://christianevents.nz/event/milk-honey-financial-freedom-seminar/
LOCATION:Hope Manukau\, 93 Kolmar Road\, Papatoetoe\, Auckland\, Auckland\, 2025\, New Zealand
CATEGORIES:Auckland
ATTACH;FMTTYPE=image/webp:https://christianevents.nz/wp-content/uploads/2026/04/MilkandHoneyFinancialMoneyManagementSeminar-April2026.webp
ORGANIZER;CN="Pioneer Ministry":MAILTO:info@pioneerministry.com
END:VEVENT
BEGIN:VEVENT
DTSTART;TZID=Pacific/Auckland:20260417T190000
DTEND;TZID=Pacific/Auckland:20260419T113000
DTSTAMP:20260426T034349
CREATED:20260330T050712Z
LAST-MODIFIED:20260330T050944Z
UID:3997-1776452400-1776598200@christianevents.nz
SUMMARY:A weekend with David Riddell
DESCRIPTION:Auckland\, come one\, come all! \nFollowing a highly successful weekend in 2025\, David Riddell is returning to Auckland for a power-packed trip. \nOn the 17th and 18th April\, join us at Horizon Church in Ellerslie. \nWar chest $30\nJoin us on Friday night as we open The War Chest. \nSet to inspire and equip you to navigate today’s political and cultural climate. With NZ’s elections just around the corner\, can you really afford not to understand what qualifies as truth? \nLiving Wisdom seminar $50 \nThen on Saturday\, we’re imparting Living Wisdom. \nAsking the question ‘What does it actually mean to make your mind your friend?’ In this one day seminar we will tackle the fundamentals of emotional health\, practically and sustainably. \nTo register for these events\, or to find out more\, head to jessica@livingwisdom.co.nz
URL:https://christianevents.nz/event/a-weekend-with-david-riddell/
LOCATION:Horizon Church\, 9 Mono Place\, Mount Wellington\, Auckland\, Auckland\, 1051\, New Zealand
CATEGORIES:Auckland
ATTACH;FMTTYPE=image/jpeg:https://christianevents.nz/wp-content/uploads/2026/03/660522650_10164514052972463_2197577659206733271_n.jpg
END:VEVENT
BEGIN:VEVENT
DTSTART;TZID=Pacific/Auckland:20260417T190000
DTEND;TZID=Pacific/Auckland:20260417T210000
DTSTAMP:20260426T034349
CREATED:20260331T013757Z
LAST-MODIFIED:20260331T013804Z
UID:4014-1776452400-1776459600@christianevents.nz
SUMMARY:The Space Between
DESCRIPTION:The Space Between is a one night only solo art exhibition by artist Matt Gould. The night will be accompanied by a time of worship and a chance to stop and reflect in Gods presence. \nCost: Free \nVenue:\nChurch Unlimited Auckland City\n2a Augustus Terrace\, Parnell \nFree registration required:\nhttps://events.humanitix.com/thespacebetween
URL:https://christianevents.nz/event/the-space-between/
LOCATION:Church Unlimited Auckland City\, 2a Augustus Terrace\, Parnell\, Auckland\, 1052\, New Zealand
CATEGORIES:Auckland
ATTACH;FMTTYPE=image/png:https://christianevents.nz/wp-content/uploads/2026/03/The-749010297bb859cc6a51bc18117d159a.png
END:VEVENT
BEGIN:VEVENT
DTSTART;TZID=Pacific/Auckland:20260329T190000
DTEND;TZID=Pacific/Auckland:20260329T210000
DTSTAMP:20260426T034349
CREATED:20260313T050425Z
LAST-MODIFIED:20260313T050434Z
UID:3728-1774810800-1774818000@christianevents.nz
SUMMARY:Myths About The Resurrection – Dr. Adam Claasen (Auckland)
DESCRIPTION:Unravelling the Myths about the Resurrection: \nMany sceptics have challenged the Christian narrative of Jesus’ resurrection. This presentation examines their claims from the perspective of an historian. \nWhen: Sunday 29 March at 7pm\nWhere: The Journey\, 1 Marewa Road\, Greenlane.
URL:https://christianevents.nz/event/myths-about-the-resurrection-dr-adam-claasen-auckland/
LOCATION:The Journey Church\, 1 Marewa Road\, Greenlane\, Auckland\, Auckland\, 1051\, New Zealand
CATEGORIES:Auckland
ATTACH;FMTTYPE=image/jpeg:https://christianevents.nz/wp-content/uploads/2026/03/Unravelling-the-Myths-about-the-Resurrection.jpg
END:VEVENT
BEGIN:VEVENT
DTSTART;TZID=Pacific/Auckland:20260329T173000
DTEND;TZID=Pacific/Auckland:20260329T193000
DTSTAMP:20260426T034349
CREATED:20260317T093941Z
LAST-MODIFIED:20260317T093946Z
UID:3776-1774805400-1774812600@christianevents.nz
SUMMARY:All In Prayer Gathering\, Auckland
DESCRIPTION:Come together with church communities across Auckland for a night of united prayer and worship. This gathering is an invitation to seek God’s presence for our city\, build connection with other local believers\, and grow in prayerful dependence on Jesus.
URL:https://christianevents.nz/event/all-in-prayer-gathering-auckland/
LOCATION:St Pauls Church\, 28 Symonds Street\, Grafton\, Auckland\, Auckland\, 1010\, New Zealand
CATEGORIES:Auckland
ATTACH;FMTTYPE=image/jpeg:https://christianevents.nz/wp-content/uploads/2026/03/649054713_779121105256033_1864892429555362410_n.jpg
END:VEVENT
BEGIN:VEVENT
DTSTART;VALUE=DATE:20260327
DTEND;VALUE=DATE:20260329
DTSTAMP:20260426T034349
CREATED:20251128T025624Z
LAST-MODIFIED:20260228T061026Z
UID:3416-1774569600-1774742399@christianevents.nz
SUMMARY:Equipher 2026 Women's Conference
DESCRIPTION:EquipHer 2026 Women’s Conference \, is happening on Friday 27th – Saturday 28th March 2026 at Victory Convention Centre\, Auckland. This coming year we have Ps Darlene Zschech with us and we cannot wait! \nThis could also be the nudge you need to plan a girls’ weekend to Auckland. Make it a getaway — book flights while summer deals are still around\, secure your accommodation\, and step into two days of worship and God-moments with women gathering from every corner of NZ. \nMore info and register at:\nhttps://www.equipher.com/
URL:https://christianevents.nz/event/equipher-2026/
LOCATION:Victory Convention Centre\, 98 Beaumont Street\, Freemans Bay\, Auckland City\, Auckland\, 1010\, New Zealand
CATEGORIES:Auckland
ATTACH;FMTTYPE=image/jpeg:https://christianevents.nz/wp-content/uploads/2025/11/unnamed-1-scaled.jpg
END:VEVENT
END:VCALENDAR