BEGIN:VCALENDAR
VERSION:2.0
PRODID:-//nzce - ECPv6.15.15//NONSGML v1.0//EN
CALSCALE:GREGORIAN
METHOD:PUBLISH
X-ORIGINAL-URL:https://christianevents.nz
X-WR-CALDESC:Events for nzce
REFRESH-INTERVAL;VALUE=DURATION:PT1H
X-Robots-Tag:noindex
X-PUBLISHED-TTL:PT1H
BEGIN:VTIMEZONE
TZID:Pacific/Auckland
BEGIN:STANDARD
TZOFFSETFROM:+1300
TZOFFSETTO:+1200
TZNAME:NZST
DTSTART:20250405T140000
END:STANDARD
BEGIN:DAYLIGHT
TZOFFSETFROM:+1200
TZOFFSETTO:+1300
TZNAME:NZDT
DTSTART:20250927T140000
END:DAYLIGHT
BEGIN:STANDARD
TZOFFSETFROM:+1300
TZOFFSETTO:+1200
TZNAME:NZST
DTSTART:20260404T140000
END:STANDARD
BEGIN:DAYLIGHT
TZOFFSETFROM:+1200
TZOFFSETTO:+1300
TZNAME:NZDT
DTSTART:20260926T140000
END:DAYLIGHT
BEGIN:STANDARD
TZOFFSETFROM:+1300
TZOFFSETTO:+1200
TZNAME:NZST
DTSTART:20270403T140000
END:STANDARD
BEGIN:DAYLIGHT
TZOFFSETFROM:+1200
TZOFFSETTO:+1300
TZNAME:NZDT
DTSTART:20270925T140000
END:DAYLIGHT
END:VTIMEZONE
BEGIN:VEVENT
DTSTART;TZID=Pacific/Auckland:20260825T120000
DTEND;TZID=Pacific/Auckland:20260827T140000
DTSTAMP:20260426T102308
CREATED:20260131T023524Z
LAST-MODIFIED:20260131T023826Z
UID:3545-1787659200-1787839200@christianevents.nz
SUMMARY:Abide Conference 2026
DESCRIPTION:Laidlaw Centre for Church Leadership (CfCL) exists to bless\, love\, and serve the Church of Aotearoa New Zealand by providing her leaders with the tools\, support\, and guidance they need to flourish. \nThe Abide conference is one of the ways The Centre is outworking this\, by offering a distinctly Aotearoa conference – developed by and for Aotearoa’s church leaders. As a national gathering point for all churches\, you are invited to come for encouragement\, inspiration\, learning\, encounter and refreshment. \nEveryone is welcome. We look forward to growing together and experiencing what God is doing among us all. \n25th – 27th August 2026\nGrace City Church\n17 Marewa Road\nGreenlane\, Auckland \nRegister today at:\nhttps://events.humanitix.com/abide-conference-2026
URL:https://christianevents.nz/event/abide-conference-2026/
LOCATION:Grace City Church\, 17 Marewa Road\, Greenlane\, Auckland\, Auckland\, 1051\, New Zealand
CATEGORIES:Auckland
ATTACH;FMTTYPE=image/webp:https://christianevents.nz/wp-content/uploads/2026/01/App_Abide_sq.webp
END:VEVENT
END:VCALENDAR