BEGIN:VCALENDAR
VERSION:2.0
PRODID:-//nzce - ECPv6.15.15//NONSGML v1.0//EN
CALSCALE:GREGORIAN
METHOD:PUBLISH
X-WR-CALNAME:nzce
X-ORIGINAL-URL:https://christianevents.nz
X-WR-CALDESC:Events for nzce
REFRESH-INTERVAL;VALUE=DURATION:PT1H
X-Robots-Tag:noindex
X-PUBLISHED-TTL:PT1H
BEGIN:VTIMEZONE
TZID:Pacific/Auckland
BEGIN:STANDARD
TZOFFSETFROM:+1300
TZOFFSETTO:+1200
TZNAME:NZST
DTSTART:20250405T140000
END:STANDARD
BEGIN:DAYLIGHT
TZOFFSETFROM:+1200
TZOFFSETTO:+1300
TZNAME:NZDT
DTSTART:20250927T140000
END:DAYLIGHT
BEGIN:STANDARD
TZOFFSETFROM:+1300
TZOFFSETTO:+1200
TZNAME:NZST
DTSTART:20260404T140000
END:STANDARD
BEGIN:DAYLIGHT
TZOFFSETFROM:+1200
TZOFFSETTO:+1300
TZNAME:NZDT
DTSTART:20260926T140000
END:DAYLIGHT
BEGIN:STANDARD
TZOFFSETFROM:+1300
TZOFFSETTO:+1200
TZNAME:NZST
DTSTART:20270403T140000
END:STANDARD
BEGIN:DAYLIGHT
TZOFFSETFROM:+1200
TZOFFSETTO:+1300
TZNAME:NZDT
DTSTART:20270925T140000
END:DAYLIGHT
END:VTIMEZONE
BEGIN:VEVENT
DTSTART;TZID=Pacific/Auckland:20260807T173000
DTEND;TZID=Pacific/Auckland:20260808T150000
DTSTAMP:20260426T102038
CREATED:20260418T105338Z
LAST-MODIFIED:20260418T105338Z
UID:4122-1786123800-1786201200@christianevents.nz
SUMMARY:Imago Convocation (ICON)
DESCRIPTION:ICON is back. Join us this August in Auckland for two days of film\, conversation\, and guest speakers alongside the NZ International Film Festival.\n🗓️ 7th – 8th August 2026\n📍 Eden Church\, Auckland\n🎟️ Early Bird Tickets: $70 / Students or Seniors $50\nSpaces limited.\n👉 Find out more or Register now: https://www.pathways.ac.nz/icon/
URL:https://christianevents.nz/event/imago-convocation-icon/
LOCATION:Eden Church\, 72-74 View Road\, Mount Eden\, Auckland\, 1024\, New Zealand
CATEGORIES:Auckland
ATTACH;FMTTYPE=image/jpeg:https://christianevents.nz/wp-content/uploads/2026/04/672682131_1560224032778223_7022860997772502818_n.jpg
END:VEVENT
END:VCALENDAR