BEGIN:VCALENDAR
VERSION:2.0
PRODID:-//nzce - ECPv6.15.15//NONSGML v1.0//EN
CALSCALE:GREGORIAN
METHOD:PUBLISH
X-ORIGINAL-URL:https://christianevents.nz
X-WR-CALDESC:Events for nzce
REFRESH-INTERVAL;VALUE=DURATION:PT1H
X-Robots-Tag:noindex
X-PUBLISHED-TTL:PT1H
BEGIN:VTIMEZONE
TZID:Pacific/Auckland
BEGIN:STANDARD
TZOFFSETFROM:+1300
TZOFFSETTO:+1200
TZNAME:NZST
DTSTART:20250405T140000
END:STANDARD
BEGIN:DAYLIGHT
TZOFFSETFROM:+1200
TZOFFSETTO:+1300
TZNAME:NZDT
DTSTART:20250927T140000
END:DAYLIGHT
BEGIN:STANDARD
TZOFFSETFROM:+1300
TZOFFSETTO:+1200
TZNAME:NZST
DTSTART:20260404T140000
END:STANDARD
BEGIN:DAYLIGHT
TZOFFSETFROM:+1200
TZOFFSETTO:+1300
TZNAME:NZDT
DTSTART:20260926T140000
END:DAYLIGHT
BEGIN:STANDARD
TZOFFSETFROM:+1300
TZOFFSETTO:+1200
TZNAME:NZST
DTSTART:20270403T140000
END:STANDARD
BEGIN:DAYLIGHT
TZOFFSETFROM:+1200
TZOFFSETTO:+1300
TZNAME:NZDT
DTSTART:20270925T140000
END:DAYLIGHT
END:VTIMEZONE
BEGIN:VEVENT
DTSTART;VALUE=DATE:20260708
DTEND;VALUE=DATE:20260711
DTSTAMP:20260426T085745
CREATED:20260317T103913Z
LAST-MODIFIED:20260317T104045Z
UID:3798-1783468800-1783727999@christianevents.nz
SUMMARY:SHOUT Conference 2026
DESCRIPTION:Every year\, we gather from different churches\, cities\, and nations with one purpose: to encounter Jesus together. Shout is more than a conference — it’s a faith-filled space where generations are empowered\, leaders are raised\, and hearts are awakened to the call of God. \nThis isn’t just an Equippers event — it’s a Kingdom gathering\, and we believe there’s a place for you in it. Come expectant. Come hungry. Come ready to worship\, receive vision\, and be part of something bigger than yourself. \n8th -10th July\nSpark Arena\, Auckland \nMore info and registration at:\nhttps://www.shoutconference.com/ \n 
URL:https://christianevents.nz/event/shout-conference-2026/
LOCATION:Spark Arena\, 42 Mahuhu Crescent\, Auckland\, Auckland\, 1010\, New Zealand
CATEGORIES:Auckland
ATTACH;FMTTYPE=image/png:https://christianevents.nz/wp-content/uploads/2026/03/medium_image-1750298036861.png
END:VEVENT
END:VCALENDAR