BEGIN:VCALENDAR
VERSION:2.0
PRODID:-//nzce - ECPv6.15.15//NONSGML v1.0//EN
CALSCALE:GREGORIAN
METHOD:PUBLISH
X-WR-CALNAME:nzce
X-ORIGINAL-URL:https://christianevents.nz
X-WR-CALDESC:Events for nzce
REFRESH-INTERVAL;VALUE=DURATION:PT1H
X-Robots-Tag:noindex
X-PUBLISHED-TTL:PT1H
BEGIN:VTIMEZONE
TZID:Pacific/Auckland
BEGIN:STANDARD
TZOFFSETFROM:+1300
TZOFFSETTO:+1200
TZNAME:NZST
DTSTART:20250405T140000
END:STANDARD
BEGIN:DAYLIGHT
TZOFFSETFROM:+1200
TZOFFSETTO:+1300
TZNAME:NZDT
DTSTART:20250927T140000
END:DAYLIGHT
BEGIN:STANDARD
TZOFFSETFROM:+1300
TZOFFSETTO:+1200
TZNAME:NZST
DTSTART:20260404T140000
END:STANDARD
BEGIN:DAYLIGHT
TZOFFSETFROM:+1200
TZOFFSETTO:+1300
TZNAME:NZDT
DTSTART:20260926T140000
END:DAYLIGHT
BEGIN:STANDARD
TZOFFSETFROM:+1300
TZOFFSETTO:+1200
TZNAME:NZST
DTSTART:20270403T140000
END:STANDARD
BEGIN:DAYLIGHT
TZOFFSETFROM:+1200
TZOFFSETTO:+1300
TZNAME:NZDT
DTSTART:20270925T140000
END:DAYLIGHT
END:VTIMEZONE
BEGIN:VEVENT
DTSTART;VALUE=DATE:20260506
DTEND;VALUE=DATE:20260521
DTSTAMP:20260426T061252
CREATED:20260407T104249Z
LAST-MODIFIED:20260407T104256Z
UID:4060-1778025600-1779321599@christianevents.nz
SUMMARY:Venn Evening School Autumn—Auckland
DESCRIPTION:Venn Evening School is a learning journey in Christian essentials\, through night classes in Bible\, Doctrine\, and Christian Living. \nThe Christian faith is the good way\, a journey with God that unfolds over the course of a lifetime. Evening School is a place for you to deepen your understanding of God\, and God’s work in the world. It’s a learning journey for your faith\, an accessible offering of evening classes grounded in the Bible\, the Christian tradition\, and pastoral wisdom. In this\, it follows the ancient paths of the Church: learning to follow and serve Christ with others for the good of the world. \nEvening School runs over three Wednesday nights each season. There are three classes to choose from—you’ll choose one to take part in over the three weeks. \nClasses on offer this Autumn: \nGospels: Matthew – Sam Martin\nWho is God? – Nathan McLellan\nPraying the Psalms – John Dennison\, Michelle Young\, & Luke Fenwick \nEvening School is for anyone—whether you’re new to the faith or have been following Jesus for years. It’s also a great option for small groups to take part in together. Come along for three weeks of evening of worship\, teaching\, conversation\, and kai. \nWednesdays 6\, 13\, & 20 May\n7:00pm–9:30pm\nHillsborough\, Auckland \nLearn more & register at:\nwww.venn.org.nz/programmes/evening-school-auckland/
URL:https://christianevents.nz/event/venn-evening-school-autumn-auckland/
LOCATION:Venn Foundation\, 58 Hillsborough Road\, Hillsborough\, Auckland\, Auckland\, 1042\, New Zealand
CATEGORIES:Auckland
ATTACH;FMTTYPE=image/jpeg:https://christianevents.nz/wp-content/uploads/2026/04/VES-Autumn-2026-Slide-1024x576-1.jpg
END:VEVENT
BEGIN:VEVENT
DTSTART;TZID=Pacific/Auckland:20260508T063000
DTEND;TZID=Pacific/Auckland:20260508T084500
DTSTAMP:20260426T061252
CREATED:20260410T052320Z
LAST-MODIFIED:20260410T052821Z
UID:4070-1778221800-1778229900@christianevents.nz
SUMMARY:The Well | Real Stories of Faith at Work - Auckland
DESCRIPTION:Come and enjoy breakfast whilst hearing from a panel of three businesspeople with diverse backgrounds as they share autobiographical stories of the difference that God makes in their business lives. \nOur Speakers: \nMark Powell\nDirector of companies across Australasia including Stihl\, MyFoodBag\, JB Hifi etc. \nMA in Christian Apologetics and bi-vocational pastor \nFormer CEO of The Warehouse \nDave Turner\nCEO of Trinity Lands\, a business established in 1951 for doing good in the community. Today Trinity are dairy farmers\, kiwifruit growers\, and property investors. \nCEO of Sequal Lumber\, a large sawmill and export business \n\nLibby Caughey\nFounder & Managing Director of The Cosy Lab a boutique\, design-led family-owned company making wearable heat bags and more \nHistory in the hotel and fashion industries \n8th May 2026\,  6:30am\nHyundai Marine Sports Centre\, 8/10 Tamaki Drive\, Orakei\, Auckland \nTicket Info:\nGeneral Admission $69 (excl GST) \nGroup Deal (10 tickets)* – Buy a table of 10 tickets for $65 per ticket (excl GST) \nTickets include breakfast along with coffee & teas. (GF\, V\, DF options will be available). \n(The ticket price is set to cover our external costs\, after donations by our generous sponsors and subsidisation by Resonance Strategy and Marketing\, the organiser.) \n*In Auckland 10 tickets corresponds to table size \nSchedule:\n6:30am – Arrive\, coffee & networking\n7:00-8:30am – Breakfast & speeches\n8:45am – Formal event finish\n8:45-9:30am – Coffee & networking
URL:https://christianevents.nz/event/the-well-real-stories-of-faith-at-work-auckland/
LOCATION:Hyundai Marine Sports Centre\, 8/10 Tamaki Drive\, Orakei\,\, Auckland\, Auckland\, 1071\, New Zealand
CATEGORIES:Auckland
ATTACH;FMTTYPE=image/jpeg:https://christianevents.nz/wp-content/uploads/2026/04/The-Well-Banner-1024x512-1.jpg
END:VEVENT
END:VCALENDAR