BEGIN:VCALENDAR
VERSION:2.0
PRODID:-//nzce - ECPv6.15.15//NONSGML v1.0//EN
CALSCALE:GREGORIAN
METHOD:PUBLISH
X-WR-CALNAME:nzce
X-ORIGINAL-URL:https://christianevents.nz
X-WR-CALDESC:Events for nzce
REFRESH-INTERVAL;VALUE=DURATION:PT1H
X-Robots-Tag:noindex
X-PUBLISHED-TTL:PT1H
BEGIN:VTIMEZONE
TZID:Pacific/Auckland
BEGIN:STANDARD
TZOFFSETFROM:+1300
TZOFFSETTO:+1200
TZNAME:NZST
DTSTART:20250405T140000
END:STANDARD
BEGIN:DAYLIGHT
TZOFFSETFROM:+1200
TZOFFSETTO:+1300
TZNAME:NZDT
DTSTART:20250927T140000
END:DAYLIGHT
BEGIN:STANDARD
TZOFFSETFROM:+1300
TZOFFSETTO:+1200
TZNAME:NZST
DTSTART:20260404T140000
END:STANDARD
BEGIN:DAYLIGHT
TZOFFSETFROM:+1200
TZOFFSETTO:+1300
TZNAME:NZDT
DTSTART:20260926T140000
END:DAYLIGHT
BEGIN:STANDARD
TZOFFSETFROM:+1300
TZOFFSETTO:+1200
TZNAME:NZST
DTSTART:20270403T140000
END:STANDARD
BEGIN:DAYLIGHT
TZOFFSETFROM:+1200
TZOFFSETTO:+1300
TZNAME:NZDT
DTSTART:20270925T140000
END:DAYLIGHT
END:VTIMEZONE
BEGIN:VEVENT
DTSTART;TZID=Pacific/Auckland:20260502T080000
DTEND;TZID=Pacific/Auckland:20260502T170000
DTSTAMP:20260426T045639
CREATED:20260422T063735Z
LAST-MODIFIED:20260422T063816Z
UID:4151-1777708800-1777741200@christianevents.nz
SUMMARY:Holy Spirit Meeting - May 2026
DESCRIPTION:Kia ora! Do you need an encouraging word\, community worship or individual prayer? If your answer is ‘yes’\, then JB Ministries NZ’s monthly Holy Spirit Meeting at the Chapel\, St. Columba Presbyterian Church is the place to come! \nPowerful message by Peter Emmanuel.\nPraise & worship by Russell Godinho & Kallen Chan. \nSaturday 2 May 2026 | 6:30 – 8:30 pm\n480 Ti Rakau Drive\, Botany Downs\, Auckland\nNo Cost. \nContact: harshala@jesuberacah.com Mob: +64 21 294 8721\nWarm welcome!
URL:https://christianevents.nz/event/holy-spirit-meeting-may-2026/
LOCATION:St Columba at Botany\, 480 Ti Rakau Drive\, Botany\, Auckand\, Auckland\, 2013\, New Zealand
CATEGORIES:Auckland
ATTACH;FMTTYPE=image/jpeg:https://christianevents.nz/wp-content/uploads/2026/04/Ministry-2026-EM-22.4.26-8bfad7e9937476e7b57014c42f962a97.jpg
END:VEVENT
BEGIN:VEVENT
DTSTART;TZID=Pacific/Auckland:20260502T190000
DTEND;TZID=Pacific/Auckland:20260502T213000
DTSTAMP:20260426T045639
CREATED:20260407T105223Z
LAST-MODIFIED:20260407T105232Z
UID:4063-1777748400-1777757400@christianevents.nz
SUMMARY:Auckland Revival Night | May 2026
DESCRIPTION:Experience the Supernatural \nAuckland\, it’s time to gather and press into the presence of the One True and Living God. Last time we met at the Arena\, the atmosphere was thick with the glory of God. We are returning to Bruce Pulman Arena with an expectation for signs\, wonders\, and life-changing breakthroughs. Bring those who are hungry for Hope and in need of Healing. \nDate: Saturday 2nd May \nTime: 7pm \nVenue: Bruce Pulman Arena\, 90 Walters Rd\, Takanini \nParking: Plenty of Free Parking available on-site. \nEntry: Free Entry. Bring a friend! \n 
URL:https://christianevents.nz/event/auckland-revival-night-may-2026/
LOCATION:Bruce Pulman Arena\, 90 Walters Road\, Takanini\, Auckland\, Auckland\, 2112\, New Zealand
CATEGORIES:Auckland
ATTACH;FMTTYPE=image/webp:https://christianevents.nz/wp-content/uploads/2026/04/AucklandRevivalNightMay2026.webp
ORGANIZER;CN="Pioneer Ministry":MAILTO:info@pioneerministry.com
END:VEVENT
END:VCALENDAR